BEGIN:VCALENDAR
VERSION:2.0
PRODID:-//The Shellfish Association of Great Britain - ECPv6.15.18//NONSGML v1.0//EN
CALSCALE:GREGORIAN
METHOD:PUBLISH
X-ORIGINAL-URL:https://shellfish.org.uk
X-WR-CALDESC:Events for The Shellfish Association of Great Britain
REFRESH-INTERVAL;VALUE=DURATION:PT1H
X-Robots-Tag:noindex
X-PUBLISHED-TTL:PT1H
BEGIN:VTIMEZONE
TZID:Europe/London
BEGIN:DAYLIGHT
TZOFFSETFROM:+0000
TZOFFSETTO:+0100
TZNAME:BST
DTSTART:20230326T010000
END:DAYLIGHT
BEGIN:STANDARD
TZOFFSETFROM:+0100
TZOFFSETTO:+0000
TZNAME:GMT
DTSTART:20231029T010000
END:STANDARD
BEGIN:DAYLIGHT
TZOFFSETFROM:+0000
TZOFFSETTO:+0100
TZNAME:BST
DTSTART:20240331T010000
END:DAYLIGHT
BEGIN:STANDARD
TZOFFSETFROM:+0100
TZOFFSETTO:+0000
TZNAME:GMT
DTSTART:20241027T010000
END:STANDARD
BEGIN:DAYLIGHT
TZOFFSETFROM:+0000
TZOFFSETTO:+0100
TZNAME:BST
DTSTART:20250330T010000
END:DAYLIGHT
BEGIN:STANDARD
TZOFFSETFROM:+0100
TZOFFSETTO:+0000
TZNAME:GMT
DTSTART:20251026T010000
END:STANDARD
END:VTIMEZONE
BEGIN:VEVENT
DTSTART;TZID=Europe/London:20241015T103000
DTEND;TZID=Europe/London:20241015T123000
DTSTAMP:20260424T193759
CREATED:20240723T084133Z
LAST-MODIFIED:20240723T084133Z
UID:3618-1728988200-1728995400@shellfish.org.uk
SUMMARY:SAGB Mollusc Committee  (Teams)
DESCRIPTION:SAGB Mollusc Committee \nTuesday 15th October\, 10.30am – 12.30pm\, via Teams.
URL:https://shellfish.org.uk/event/sagb-mollusc-committee-teams/
END:VEVENT
END:VCALENDAR