BEGIN:VCALENDAR
VERSION:2.0
PRODID:-//The Shellfish Association of Great Britain - ECPv6.15.18//NONSGML v1.0//EN
CALSCALE:GREGORIAN
METHOD:PUBLISH
X-WR-CALNAME:The Shellfish Association of Great Britain
X-ORIGINAL-URL:https://shellfish.org.uk
X-WR-CALDESC:Events for The Shellfish Association of Great Britain
REFRESH-INTERVAL;VALUE=DURATION:PT1H
X-Robots-Tag:noindex
X-PUBLISHED-TTL:PT1H
BEGIN:VTIMEZONE
TZID:Europe/London
BEGIN:DAYLIGHT
TZOFFSETFROM:+0000
TZOFFSETTO:+0100
TZNAME:BST
DTSTART:20240331T010000
END:DAYLIGHT
BEGIN:STANDARD
TZOFFSETFROM:+0100
TZOFFSETTO:+0000
TZNAME:GMT
DTSTART:20241027T010000
END:STANDARD
BEGIN:DAYLIGHT
TZOFFSETFROM:+0000
TZOFFSETTO:+0100
TZNAME:BST
DTSTART:20250330T010000
END:DAYLIGHT
BEGIN:STANDARD
TZOFFSETFROM:+0100
TZOFFSETTO:+0000
TZNAME:GMT
DTSTART:20251026T010000
END:STANDARD
BEGIN:DAYLIGHT
TZOFFSETFROM:+0000
TZOFFSETTO:+0100
TZNAME:BST
DTSTART:20260329T010000
END:DAYLIGHT
BEGIN:STANDARD
TZOFFSETFROM:+0100
TZOFFSETTO:+0000
TZNAME:GMT
DTSTART:20261025T010000
END:STANDARD
BEGIN:DAYLIGHT
TZOFFSETFROM:+0000
TZOFFSETTO:+0100
TZNAME:BST
DTSTART:20270328T010000
END:DAYLIGHT
BEGIN:STANDARD
TZOFFSETFROM:+0100
TZOFFSETTO:+0000
TZNAME:GMT
DTSTART:20271031T010000
END:STANDARD
END:VTIMEZONE
BEGIN:VEVENT
DTSTART;TZID=Europe/London:20250610T080000
DTEND;TZID=Europe/London:20250611T170000
DTSTAMP:20260424T153157
CREATED:20241111T140757Z
LAST-MODIFIED:20241111T140757Z
UID:3959-1749542400-1749661200@shellfish.org.uk
SUMMARY:55th Annual Conference
DESCRIPTION:Conference next year will be Tuesday 10th and Wednesday 11th June.\nThe conference will be at The Crown Estate building\, St James Square and the Dinner at Fishmongers’ Hall on the Tuesday night
URL:https://shellfish.org.uk/event/55th-annual-conference/
END:VEVENT
BEGIN:VEVENT
DTSTART;TZID=Europe/London:20250616T140000
DTEND;TZID=Europe/London:20250616T160000
DTSTAMP:20260424T153157
CREATED:20250530T072954Z
LAST-MODIFIED:20250530T072954Z
UID:4349-1750082400-1750089600@shellfish.org.uk
SUMMARY:SAGB Shellfish Waters Workshop
DESCRIPTION:Understanding Water Quality In Your Area
URL:https://shellfish.org.uk/event/sagb-shellfish-waters-workshop/
END:VEVENT
BEGIN:VEVENT
DTSTART;TZID=Europe/London:20250916T100000
DTEND;TZID=Europe/London:20250916T160000
DTSTAMP:20260424T153157
CREATED:20250804T095239Z
LAST-MODIFIED:20250804T095239Z
UID:4494-1758016800-1758038400@shellfish.org.uk
SUMMARY:SSWG
DESCRIPTION:
URL:https://shellfish.org.uk/event/sswg-2/
END:VEVENT
BEGIN:VEVENT
DTSTART;TZID=Europe/London:20250917T110000
DTEND;TZID=Europe/London:20250917T123000
DTSTAMP:20260424T153157
CREATED:20250805T093000Z
LAST-MODIFIED:20250805T093000Z
UID:4499-1758106800-1758112200@shellfish.org.uk
SUMMARY:Crustacean Committee
DESCRIPTION:
URL:https://shellfish.org.uk/event/crustacean-committee-2/
END:VEVENT
BEGIN:VEVENT
DTSTART;TZID=Europe/London:20251010T110000
DTEND;TZID=Europe/London:20251010T130000
DTSTAMP:20260424T153157
CREATED:20250805T093026Z
LAST-MODIFIED:20250805T093026Z
UID:4503-1760094000-1760101200@shellfish.org.uk
SUMMARY:Mollusc Committee
DESCRIPTION:
URL:https://shellfish.org.uk/event/mollusc-committee-3/
END:VEVENT
BEGIN:VEVENT
DTSTART;TZID=Europe/London:20260312T110000
DTEND;TZID=Europe/London:20260312T133000
DTSTAMP:20260424T153157
CREATED:20260122T085723Z
LAST-MODIFIED:20260122T085723Z
UID:4660-1773313200-1773322200@shellfish.org.uk
SUMMARY:Crustacea committee meeting
DESCRIPTION:
URL:https://shellfish.org.uk/event/crustacea-committee-meeting/
END:VEVENT
BEGIN:VEVENT
DTSTART;TZID=Europe/London:20260313T110000
DTEND;TZID=Europe/London:20260313T130000
DTSTAMP:20260424T153157
CREATED:20260313T000049Z
LAST-MODIFIED:20260226T145831Z
UID:4664-1773399600-1773406800@shellfish.org.uk
SUMMARY:POSTPONED Mollusc Committee Meeting
DESCRIPTION:
URL:https://shellfish.org.uk/event/mollusc-committee-meeting/
END:VEVENT
BEGIN:VEVENT
DTSTART;TZID=Europe/London:20260416T140000
DTEND;TZID=Europe/London:20260416T160000
DTSTAMP:20260424T153157
CREATED:20260122T090738Z
LAST-MODIFIED:20260122T090738Z
UID:4672-1776348000-1776355200@shellfish.org.uk
SUMMARY:Processors Committee Meeting
DESCRIPTION:
URL:https://shellfish.org.uk/event/processors-committee-meeting/
END:VEVENT
BEGIN:VEVENT
DTSTART;TZID=Europe/London:20260424T110000
DTEND;TZID=Europe/London:20260424T130000
DTSTAMP:20260424T153157
CREATED:20260323T144001Z
LAST-MODIFIED:20260323T144001Z
UID:4823-1777028400-1777035600@shellfish.org.uk
SUMMARY:Mollusc Committee Meeting
DESCRIPTION:
URL:https://shellfish.org.uk/event/mollusc-committee-meeting-3/
LOCATION:Teams
END:VEVENT
BEGIN:VEVENT
DTSTART;TZID=Europe/London:20260714T090000
DTEND;TZID=Europe/London:20260715T140000
DTSTAMP:20260424T153157
CREATED:20260122T163339Z
LAST-MODIFIED:20260122T163339Z
UID:4685-1784019600-1784124000@shellfish.org.uk
SUMMARY:SAGB Annual Conference
DESCRIPTION:
URL:https://shellfish.org.uk/event/sagb-annual-conference/
LOCATION:The Crown Estate\, The Crown Estate\, 1 St James's Market\, London\, SW1Y 4AH
END:VEVENT
BEGIN:VEVENT
DTSTART;TZID=Europe/London:20260714T180000
DTEND;TZID=Europe/London:20260714T220000
DTSTAMP:20260424T153157
CREATED:20260122T163549Z
LAST-MODIFIED:20260122T163549Z
UID:4692-1784052000-1784066400@shellfish.org.uk
SUMMARY:SAGB Annual Gala Dinner Fundraiser
DESCRIPTION:
URL:https://shellfish.org.uk/event/sagb-annual-gala-dinner-fundraiser/
LOCATION:Fishmongers’ Hall\, Fishmongers’ Hall\, London Bridge\, London\, EC4R 9EL\, United Kingdom
END:VEVENT
BEGIN:VEVENT
DTSTART;VALUE=DATE:20260925
DTEND;VALUE=DATE:20260926
DTSTAMP:20260424T153157
CREATED:20260122T090612Z
LAST-MODIFIED:20260122T091957Z
UID:4668-1790294400-1790380799@shellfish.org.uk
SUMMARY:Mollusc Committee Meeting (Time TBC)
DESCRIPTION:
URL:https://shellfish.org.uk/event/mollusc-committee-meeting-2/
END:VEVENT
BEGIN:VEVENT
DTSTART;VALUE=DATE:20261006
DTEND;VALUE=DATE:20261007
DTSTAMP:20260424T153157
CREATED:20260122T091921Z
LAST-MODIFIED:20260122T091921Z
UID:4676-1791244800-1791331199@shellfish.org.uk
SUMMARY:Processors Committee Meeting (Time TBC)
DESCRIPTION:
URL:https://shellfish.org.uk/event/processors-committee-meeting-time-tbc/
END:VEVENT
END:VCALENDAR